BEGIN:VCALENDAR
VERSION:2.0
PRODID:-//Kingdom Life Victory Church - ECPv6.15.20//NONSGML v1.0//EN
CALSCALE:GREGORIAN
METHOD:PUBLISH
X-ORIGINAL-URL:https://www.klvchurch.com
X-WR-CALDESC:Events for Kingdom Life Victory Church
REFRESH-INTERVAL;VALUE=DURATION:PT1H
X-Robots-Tag:noindex
X-PUBLISHED-TTL:PT1H
BEGIN:VTIMEZONE
TZID:America/Edmonton
BEGIN:DAYLIGHT
TZOFFSETFROM:-0700
TZOFFSETTO:-0600
TZNAME:MDT
DTSTART:20230312T090000
END:DAYLIGHT
BEGIN:STANDARD
TZOFFSETFROM:-0600
TZOFFSETTO:-0700
TZNAME:MST
DTSTART:20231105T080000
END:STANDARD
BEGIN:DAYLIGHT
TZOFFSETFROM:-0700
TZOFFSETTO:-0600
TZNAME:MDT
DTSTART:20240310T090000
END:DAYLIGHT
BEGIN:STANDARD
TZOFFSETFROM:-0600
TZOFFSETTO:-0700
TZNAME:MST
DTSTART:20241103T080000
END:STANDARD
BEGIN:DAYLIGHT
TZOFFSETFROM:-0700
TZOFFSETTO:-0600
TZNAME:MDT
DTSTART:20250309T090000
END:DAYLIGHT
BEGIN:STANDARD
TZOFFSETFROM:-0600
TZOFFSETTO:-0700
TZNAME:MST
DTSTART:20251102T080000
END:STANDARD
END:VTIMEZONE
BEGIN:VEVENT
DTSTART;TZID=America/Edmonton:20240728T090000
DTEND;TZID=America/Edmonton:20240728T170000
DTSTAMP:20260426T015443
CREATED:20240718T190627Z
LAST-MODIFIED:20240718T190627Z
UID:2332-1722157200-1722186000@www.klvchurch.com
SUMMARY:Prophetic Training Seminar
DESCRIPTION:Join us for this FREE seminar taught by Chris Maguire\, a JGLM Ambassador. Get ready to dive deep into prophetic training at our seminar in Calgary – it’s going to be an eye-opening experience! See more information at https://www.eventbrite.co.uk/e/prophetic-training-seminar-calgary-tickets-943976518177 \nFREE REGISTRATION REQUIRED at https://www.eventbrite.co.uk/e/prophetic-training-seminar-calgary-tickets-943976518177 \nDate: Sunday\, July 28 \nTime: 9am – 5pm MDT \nLocation: 1307 10 Avenue Southeast Calgary\, AB T2G 0W8
URL:https://www.klvchurch.com/event/prophetic-training-seminar/
LOCATION:Kingdom Life Victory Church\, 1307 10 Avenue SE\, Calgary\, Alberta\, Canada
ATTACH;FMTTYPE=image/jpeg:https://www.klvchurch.com/wp-content/uploads/2024/07/Prophetic-Training-Seminar.jpeg
END:VEVENT
END:VCALENDAR