BEGIN:VCALENDAR
VERSION:2.0
PRODID:-//Kingdom Life Victory Church - ECPv6.15.20//NONSGML v1.0//EN
CALSCALE:GREGORIAN
METHOD:PUBLISH
X-ORIGINAL-URL:https://www.klvchurch.com
X-WR-CALDESC:Events for Kingdom Life Victory Church
REFRESH-INTERVAL;VALUE=DURATION:PT1H
X-Robots-Tag:noindex
X-PUBLISHED-TTL:PT1H
BEGIN:VTIMEZONE
TZID:America/Edmonton
BEGIN:DAYLIGHT
TZOFFSETFROM:-0700
TZOFFSETTO:-0600
TZNAME:MDT
DTSTART:20240310T090000
END:DAYLIGHT
BEGIN:STANDARD
TZOFFSETFROM:-0600
TZOFFSETTO:-0700
TZNAME:MST
DTSTART:20241103T080000
END:STANDARD
BEGIN:DAYLIGHT
TZOFFSETFROM:-0700
TZOFFSETTO:-0600
TZNAME:MDT
DTSTART:20250309T090000
END:DAYLIGHT
BEGIN:STANDARD
TZOFFSETFROM:-0600
TZOFFSETTO:-0700
TZNAME:MST
DTSTART:20251102T080000
END:STANDARD
BEGIN:DAYLIGHT
TZOFFSETFROM:-0700
TZOFFSETTO:-0600
TZNAME:MDT
DTSTART:20260308T090000
END:DAYLIGHT
BEGIN:STANDARD
TZOFFSETFROM:-0600
TZOFFSETTO:-0700
TZNAME:MST
DTSTART:20261101T080000
END:STANDARD
END:VTIMEZONE
BEGIN:VEVENT
DTSTART;TZID=America/Edmonton:20251221T110000
DTEND;TZID=America/Edmonton:20251221T123000
DTSTAMP:20260424T235158
CREATED:20251111T173848Z
LAST-MODIFIED:20251111T173848Z
UID:2455-1766314800-1766320200@www.klvchurch.com
SUMMARY:2025 Christmas Service
DESCRIPTION:Kingdom Life Victory Church invites you to our 2025 Christmas Service. Hosted by Pastors Anayo and Chiny\, this joyful celebration is all about Jesus Christ\, the reason for the season. Come expecting an uplifting time of praise\, inspiring messages\, and rich fellowship with the KLVC family. Everyone is welcome. \nWe look forward to celebrating Christmas together. Free registration is available at klvcchristmas2025.eventbrite.com \nDate: December 21\, 2025Time: 11:00 AM to 12:30 PMLocation: 1307 10th Avenue SE\, Calgary\, AB \nFree Parking: At the back of the building. Access via the alley off 12th and 13th Street. \nFree Registration Link: klvcchristmas2025.eventbrite.com
URL:https://www.klvchurch.com/event/2025-christmas-service/
LOCATION:Kingdom Life Victory Church\, 1307 10 Avenue SE\, Calgary\, Alberta\, Canada
ATTACH;FMTTYPE=image/jpeg:https://www.klvchurch.com/wp-content/uploads/2025/11/KLVC-Christmas-2025.jpeg
END:VEVENT
END:VCALENDAR