BEGIN:VCALENDAR
VERSION:2.0
PRODID:-//Kingdom Life Victory Church - ECPv6.15.20//NONSGML v1.0//EN
CALSCALE:GREGORIAN
METHOD:PUBLISH
X-WR-CALNAME:Kingdom Life Victory Church
X-ORIGINAL-URL:https://www.klvchurch.com
X-WR-CALDESC:Events for Kingdom Life Victory Church
REFRESH-INTERVAL;VALUE=DURATION:PT1H
X-Robots-Tag:noindex
X-PUBLISHED-TTL:PT1H
BEGIN:VTIMEZONE
TZID:UTC
BEGIN:STANDARD
TZOFFSETFROM:+0000
TZOFFSETTO:+0000
TZNAME:UTC
DTSTART:20240101T000000
END:STANDARD
END:VTIMEZONE
BEGIN:VEVENT
DTSTART;TZID=UTC:20251231T230000
DTEND;TZID=UTC:20260101T010000
DTSTAMP:20260424T205613
CREATED:20251231T170545Z
LAST-MODIFIED:20251231T170545Z
UID:2464-1767222000-1767229200@www.klvchurch.com
SUMMARY:2025 Crossover Service
DESCRIPTION:On December 31\, 2025\, please join us for our 2025/2026 Crossover Service at Kingdom Life Victory Church where we will crossover into the new year together in praise and worship. \nAddress: 1307 10 Avenue SE \nService Time: 11:00PM – 1:00AM \n 
URL:https://www.klvchurch.com/event/2025-crossover-service/
LOCATION:Kingdom Life Victory Church\, 1307 10 Avenue SE\, Calgary\, Alberta\, Canada
ATTACH;FMTTYPE=image/jpeg:https://www.klvchurch.com/wp-content/uploads/2025/12/2025-2026-Crossover-Service.jpeg
END:VEVENT
END:VCALENDAR