BEGIN:VCALENDAR
VERSION:2.0
PRODID:-//Kingdom Life Victory Church - ECPv6.15.20//NONSGML v1.0//EN
CALSCALE:GREGORIAN
METHOD:PUBLISH
X-ORIGINAL-URL:https://www.klvchurch.com
X-WR-CALDESC:Events for Kingdom Life Victory Church
REFRESH-INTERVAL;VALUE=DURATION:PT1H
X-Robots-Tag:noindex
X-PUBLISHED-TTL:PT1H
BEGIN:VTIMEZONE
TZID:America/Edmonton
BEGIN:DAYLIGHT
TZOFFSETFROM:-0700
TZOFFSETTO:-0600
TZNAME:MDT
DTSTART:20250309T090000
END:DAYLIGHT
BEGIN:STANDARD
TZOFFSETFROM:-0600
TZOFFSETTO:-0700
TZNAME:MST
DTSTART:20251102T080000
END:STANDARD
BEGIN:DAYLIGHT
TZOFFSETFROM:-0700
TZOFFSETTO:-0600
TZNAME:MDT
DTSTART:20260308T090000
END:DAYLIGHT
BEGIN:STANDARD
TZOFFSETFROM:-0600
TZOFFSETTO:-0700
TZNAME:MST
DTSTART:20261101T080000
END:STANDARD
BEGIN:DAYLIGHT
TZOFFSETFROM:-0700
TZOFFSETTO:-0600
TZNAME:MDT
DTSTART:20270314T090000
END:DAYLIGHT
BEGIN:STANDARD
TZOFFSETFROM:-0600
TZOFFSETTO:-0700
TZNAME:MST
DTSTART:20271107T080000
END:STANDARD
END:VTIMEZONE
BEGIN:VEVENT
DTSTART;TZID=America/Edmonton:20260405T110000
DTEND;TZID=America/Edmonton:20260405T120000
DTSTAMP:20260425T093824
CREATED:20260302T051453Z
LAST-MODIFIED:20260302T051453Z
UID:2480-1775386800-1775390400@www.klvchurch.com
SUMMARY:2026  Easter Service
DESCRIPTION:Easter Service at Kingdom Life Victory Church \nJoin us on Sunday\, April 5\, 2026\, as we celebrate the resurrection of Jesus Christ at Kingdom Life Victory Church! Free registration available at http://KlvcEaster2026.eventbrite.com \n\nThis special Easter service will be hosted by our senior pastors\, Pastors Anayo & Chiny Onwuka\, with guest ministers Pastors Al & Terry Purvis joining us for an uplifting time of worship and the Word. \nService Time: 11:00 AM – 12:30 PMLocation: 1307 10 Avenue SEParking: Available at the front\, back\, and sides of the churchRefreshments will be served following the service. \nWe’d love for you and your family to be part of this powerful celebration of hope\, life\, and victory! Register your attendance for free at http://KlvcEaster2026.eventbrite.com
URL:https://www.klvchurch.com/event/2026-easter-service/
LOCATION:Kingdom Life Victory Church\, 1307 10 Avenue SE\, Calgary\, Alberta\, Canada
ATTACH;FMTTYPE=image/jpeg:https://www.klvchurch.com/wp-content/uploads/2026/03/Easter2026.jpeg
END:VEVENT
END:VCALENDAR