BEGIN:VCALENDAR
VERSION:2.0
PRODID:-//Kingdom Life Victory Church - ECPv6.15.20//NONSGML v1.0//EN
CALSCALE:GREGORIAN
METHOD:PUBLISH
X-WR-CALNAME:Kingdom Life Victory Church
X-ORIGINAL-URL:https://www.klvchurch.com
X-WR-CALDESC:Events for Kingdom Life Victory Church
REFRESH-INTERVAL;VALUE=DURATION:PT1H
X-Robots-Tag:noindex
X-PUBLISHED-TTL:PT1H
BEGIN:VTIMEZONE
TZID:America/Edmonton
BEGIN:DAYLIGHT
TZOFFSETFROM:-0700
TZOFFSETTO:-0600
TZNAME:MDT
DTSTART:20190310T090000
END:DAYLIGHT
BEGIN:STANDARD
TZOFFSETFROM:-0600
TZOFFSETTO:-0700
TZNAME:MST
DTSTART:20191103T080000
END:STANDARD
BEGIN:DAYLIGHT
TZOFFSETFROM:-0700
TZOFFSETTO:-0600
TZNAME:MDT
DTSTART:20200308T090000
END:DAYLIGHT
BEGIN:STANDARD
TZOFFSETFROM:-0600
TZOFFSETTO:-0700
TZNAME:MST
DTSTART:20201101T080000
END:STANDARD
BEGIN:DAYLIGHT
TZOFFSETFROM:-0700
TZOFFSETTO:-0600
TZNAME:MDT
DTSTART:20210314T090000
END:DAYLIGHT
BEGIN:STANDARD
TZOFFSETFROM:-0600
TZOFFSETTO:-0700
TZNAME:MST
DTSTART:20211107T080000
END:STANDARD
BEGIN:DAYLIGHT
TZOFFSETFROM:-0700
TZOFFSETTO:-0600
TZNAME:MDT
DTSTART:20220313T090000
END:DAYLIGHT
BEGIN:STANDARD
TZOFFSETFROM:-0600
TZOFFSETTO:-0700
TZNAME:MST
DTSTART:20221106T080000
END:STANDARD
BEGIN:DAYLIGHT
TZOFFSETFROM:-0700
TZOFFSETTO:-0600
TZNAME:MDT
DTSTART:20230312T090000
END:DAYLIGHT
BEGIN:STANDARD
TZOFFSETFROM:-0600
TZOFFSETTO:-0700
TZNAME:MST
DTSTART:20231105T080000
END:STANDARD
END:VTIMEZONE
BEGIN:VTIMEZONE
TZID:UTC
BEGIN:STANDARD
TZOFFSETFROM:+0000
TZOFFSETTO:+0000
TZNAME:UTC
DTSTART:20190101T000000
END:STANDARD
END:VTIMEZONE
BEGIN:VTIMEZONE
TZID:America/Denver
BEGIN:DAYLIGHT
TZOFFSETFROM:-0700
TZOFFSETTO:-0600
TZNAME:MDT
DTSTART:20200308T090000
END:DAYLIGHT
BEGIN:STANDARD
TZOFFSETFROM:-0600
TZOFFSETTO:-0700
TZNAME:MST
DTSTART:20201101T080000
END:STANDARD
BEGIN:DAYLIGHT
TZOFFSETFROM:-0700
TZOFFSETTO:-0600
TZNAME:MDT
DTSTART:20210314T090000
END:DAYLIGHT
BEGIN:STANDARD
TZOFFSETFROM:-0600
TZOFFSETTO:-0700
TZNAME:MST
DTSTART:20211107T080000
END:STANDARD
BEGIN:DAYLIGHT
TZOFFSETFROM:-0700
TZOFFSETTO:-0600
TZNAME:MDT
DTSTART:20220313T090000
END:DAYLIGHT
BEGIN:STANDARD
TZOFFSETFROM:-0600
TZOFFSETTO:-0700
TZNAME:MST
DTSTART:20221106T080000
END:STANDARD
END:VTIMEZONE
BEGIN:VEVENT
DTSTART;TZID=America/Edmonton:20221224T160000
DTEND;TZID=America/Edmonton:20221224T170000
DTSTAMP:20260425T125453
CREATED:20221212T202919Z
LAST-MODIFIED:20221212T202919Z
UID:2084-1671897600-1671901200@www.klvchurch.com
SUMMARY:2022 Christmas Eve Service
DESCRIPTION:On December 24\, 2022\, please join us for our Christmas Eve Service at Kingdom Life Victory Church where will celebrate the reason for the season\, Jesus Christ! Refreshments will be served following the service. \nAddress: 1307 10 Avenue SE \nService Time: 4:00PM – 5:00PM
URL:https://www.klvchurch.com/event/2022-christmas-eve-service/
LOCATION:Kingdom Life Victory Church\, 1307 10 Avenue SE\, Calgary\, Alberta\, Canada
ATTACH;FMTTYPE=image/png:https://www.klvchurch.com/wp-content/uploads/2022/12/KLVC-Christmas-Eve-Service-2022-Announcement.png
END:VEVENT
BEGIN:VEVENT
DTSTART;TZID=America/Edmonton:20221009T110000
DTEND;TZID=America/Edmonton:20221009T123000
DTSTAMP:20260425T125453
CREATED:20221008T022049Z
LAST-MODIFIED:20221008T022049Z
UID:2052-1665313200-1665318600@www.klvchurch.com
SUMMARY:KLVC Thanksgiving Service
DESCRIPTION:Please join us for our Thanksgiving Service at Kingdom Life Victory Church on October 9th\, 2022. Refreshments will be provided. \nAddress: 742 85th Ave SW \nTime: 11:00AM
URL:https://www.klvchurch.com/event/klvc-thanksgiving-service/
LOCATION:Kingdom Life Victory Church\, 1307 10 Avenue SE\, Calgary\, Alberta\, Canada
ATTACH;FMTTYPE=image/jpeg:https://www.klvchurch.com/wp-content/uploads/2022/10/2022-thanksgiving-service-poster.jpeg
END:VEVENT
BEGIN:VEVENT
DTSTART;TZID=America/Edmonton:20220417T110000
DTEND;TZID=America/Edmonton:20220417T123000
DTSTAMP:20260425T125453
CREATED:20220413T190208Z
LAST-MODIFIED:20220413T190208Z
UID:1934-1650193200-1650198600@www.klvchurch.com
SUMMARY:2022 Easter Service
DESCRIPTION:He’s Risen! Come experience Jesus Christ’s Resurrection Power & enjoy a quickening in the desired areas of your life! Come one\, come all! \nWe hope to see you in person at our worship center located at 742 85th Street SW\, from 11:00am to 12:30pm. \nIf you are unable to join us in person\, you may also join us online on Zoom at https://us04web.zoom.us/j/990010245 \n 
URL:https://www.klvchurch.com/event/2022-easter-service/
LOCATION:Kingdom Life Victory Church\, 1307 10 Avenue SE\, Calgary\, Alberta\, Canada
ATTACH;FMTTYPE=image/jpeg:https://www.klvchurch.com/wp-content/uploads/2022/04/Easter-Service-Banner.jpeg
END:VEVENT
BEGIN:VEVENT
DTSTART;TZID=UTC:20220103T000000
DTEND;TZID=UTC:20220123T235900
DTSTAMP:20260425T125453
CREATED:20220116T034840Z
LAST-MODIFIED:20220116T034917Z
UID:1901-1641168000-1642982340@www.klvchurch.com
SUMMARY:2022 Daniel Fast
DESCRIPTION:Join us as we Pray and Fast during the month of January. Choose a 3\, 7\, 10 or 21 day fast from January 3rd to 23rd\, 2022.
URL:https://www.klvchurch.com/event/2022-daniel-fast/
ATTACH;FMTTYPE=image/jpeg:https://www.klvchurch.com/wp-content/uploads/2022/01/Daniel-Fast-Image.jpeg
END:VEVENT
BEGIN:VEVENT
DTSTART;TZID=UTC:20211231T230000
DTEND;TZID=UTC:20220101T010000
DTSTAMP:20260425T125453
CREATED:20211228T162750Z
LAST-MODIFIED:20211228T162750Z
UID:1895-1640991600-1640998800@www.klvchurch.com
SUMMARY:2022 Crossover Service
DESCRIPTION:Please join us online as we enter 2022 in praise\, prayer\, and thanksgiving. We’ll also hear from our senior pastors\, Pastors Anayo and Chiny Onwuka\, who will share the vision the Lord has given them for 2022. You won’t want to miss this! \nDate: December 31\, 2021 \nTime: 11:00pm to 1:00am \nWhere: Online Only (Zoom platform) \nZoom ID: 990 010 245 \nZoom URL: https://us04web.zoom.us/j/990010245
URL:https://www.klvchurch.com/event/2022-crossover-service/
LOCATION:Online Stream\, Canada
ATTACH;FMTTYPE=image/jpeg:https://www.klvchurch.com/wp-content/uploads/2021/12/2022-Crossover-Service.jpg
END:VEVENT
BEGIN:VEVENT
DTSTART;TZID=UTC:20211219T110000
DTEND;TZID=UTC:20211219T123000
DTSTAMP:20260425T125453
CREATED:20211211T203529Z
LAST-MODIFIED:20211211T204520Z
UID:1891-1639911600-1639917000@www.klvchurch.com
SUMMARY:Christmas Service
DESCRIPTION:Kingdom Life Victory Church specially invites you to our Christmas Service. Come celebrate Jesus Christ’s birthday with us. Takeaway Refreshments will be served.
URL:https://www.klvchurch.com/event/christmas-service/
LOCATION:Kingdom Life Victory Church\, 1307 10 Avenue SE\, Calgary\, Alberta\, Canada
ATTACH;FMTTYPE=image/jpeg:https://www.klvchurch.com/wp-content/uploads/2021/12/Christmas-Service-announcement.jpg
END:VEVENT
BEGIN:VEVENT
DTSTART;TZID=America/Denver:20210327T120000
DTEND;TZID=America/Denver:20210327T140000
DTSTAMP:20260425T125453
CREATED:20210227T050021Z
LAST-MODIFIED:20210227T050021Z
UID:1827-1616846400-1616853600@www.klvchurch.com
SUMMARY:So You Think You Can Date?
DESCRIPTION:So You Think You Can Date? Get your questions about relationships\, dating\, marriage\, and sex answered at this relationship seminar presented by Kingdom Life Victory Church. \nThis event will be streamed online using the Zoom app\, a free video conferencing platform. Please use the following link to attend the event. If you do not already have the Zoom app installed on your device\, you will be prompted to do so. \nDate: March 27\, 2021 \nTime: 12:00pm – 2:00pm (MST) \nZoom URL: https://us04web.zoom.us/j/990010245
URL:https://www.klvchurch.com/event/so-you-think-you-can-date/
LOCATION:Online Stream\, Canada
CATEGORIES:Online Stream
ATTACH;FMTTYPE=image/png:https://www.klvchurch.com/wp-content/uploads/2021/02/Relationship-Seminar-Sunday-Service-Slide.png
END:VEVENT
BEGIN:VEVENT
DTSTART;TZID=America/Edmonton:20200530T140000
DTEND;TZID=America/Edmonton:20200530T150000
DTSTAMP:20260425T125453
CREATED:20200416T161456Z
LAST-MODIFIED:20200416T163459Z
UID:1705-1590847200-1590850800@www.klvchurch.com
SUMMARY:‘5 Ideas’ | 5 Tips For Creating A Business Out Of Your Passion
DESCRIPTION:‘5 Ideas’ is a free bi-weekly webinar series where one of our presenters shares 5 ideas on a relevant topic to help you gain valuable insight through expert advice. \nThe presenter for this webinar is Dr. Deborah Motilewa\, a Business Professor (BCIT)\, who will share 5 Tips For Creating A Business Out Of Your Passion. \nThis event will be streamed online using the Zoom app\, a free video conferencing platform. Please use the following link to attend the event. If you do not already have the Zoom app installed on your device\, you will be prompted to do so. \nDate: May 30\, 2020 \nTime: 2:00pm – 3:00pm (MST) \nZoom URL: https://us04web.zoom.us/j/990010245
URL:https://www.klvchurch.com/event/5-ideas-5-tips-for-creating-a-business-out-of-your-passion/
LOCATION:Online Stream\, Canada
CATEGORIES:Online Stream
ATTACH;FMTTYPE=image/jpeg:https://www.klvchurch.com/wp-content/uploads/2020/04/IMG-20200416-WA0005.jpg
END:VEVENT
BEGIN:VEVENT
DTSTART;TZID=America/Edmonton:20200516T140000
DTEND;TZID=America/Edmonton:20200516T150000
DTSTAMP:20260425T125453
CREATED:20200416T160703Z
LAST-MODIFIED:20200416T163216Z
UID:1703-1589637600-1589641200@www.klvchurch.com
SUMMARY:‘5 Ideas’ | 5 Ways To Recession-Proof Your Finances
DESCRIPTION:‘5 Ideas’ is a free bi-weekly webinar series where one of our presenters shares 5 ideas on a relevant topic to help you gain valuable insight through expert advice. \nThe presenter for this webinar is Jennifer Aikoroje\, an Accounting & Tax Professional\, who will share 5 Ways To Recession-Proof Your Finances. \nThis event will be streamed online using the Zoom app\, a free video conferencing platform. Please use the following link to attend the event. If you do not already have the Zoom app installed on your device\, you will be prompted to do so. \nDate: May 16\, 2020 \nTime: 2:00pm – 3:00pm (MST) \nZoom URL: https://us04web.zoom.us/j/990010245
URL:https://www.klvchurch.com/event/5-ideas-5-ways-to-recession-proof-your-finances/
LOCATION:Online Stream\, Canada
CATEGORIES:Online Stream
ATTACH;FMTTYPE=image/jpeg:https://www.klvchurch.com/wp-content/uploads/2020/04/IMG-20200416-WA0006.jpg
END:VEVENT
BEGIN:VEVENT
DTSTART;TZID=America/Edmonton:20200502T140000
DTEND;TZID=America/Edmonton:20200502T150000
DTSTAMP:20260425T125453
CREATED:20200416T155718Z
LAST-MODIFIED:20200416T163115Z
UID:1696-1588428000-1588431600@www.klvchurch.com
SUMMARY:‘5 Ideas’ | 5 Simple Tips To Boost Your Employability
DESCRIPTION:‘5 Ideas’ is a free bi-weekly webinar series where one of our presenters shares 5 ideas on a relevant topic to help you gain valuable insight through expert advice. \nThe presenter for this webinar is Fidelia Eje Sebastian\, an Experience HR Professional\, who will share 5 Simple Tips To Boost Your Employability. \nThis event will be streamed online using the Zoom app\, a free video conferencing platform. Please use the following link to attend the event. If you do not already have the Zoom app installed on your device\, you will be prompted to do so. \nDate: May 2\, 2020 \nTime: 2:00pm – 3:00pm (MST) \nZoom URL: https://us04web.zoom.us/j/990010245 \n 
URL:https://www.klvchurch.com/event/5-ideas-5-simple-tips-to-boost-your-employability/
LOCATION:Online Stream\, Canada
CATEGORIES:Online Stream
ATTACH;FMTTYPE=image/jpeg:https://www.klvchurch.com/wp-content/uploads/2020/04/IMG-20200416-WA0004.jpg
END:VEVENT
BEGIN:VEVENT
DTSTART;TZID=UTC:20200428T193000
DTEND;TZID=UTC:20200428T203000
DTSTAMP:20260425T125453
CREATED:20200407T171907Z
LAST-MODIFIED:20200407T171907Z
UID:1666-1588102200-1588105800@www.klvchurch.com
SUMMARY:Weekly Bible Study | April 28
DESCRIPTION:This event will be streamed online using the Zoom app\, a free video conferencing platform. Please use the following link to attend the event. If you do not already have the Zoom app installed on your device\, you will be prompted to do so. \nZoom URL: https://us04web.zoom.us/j/990010245 \nZoom Meeting ID: 990 010 245
URL:https://www.klvchurch.com/event/weekly-bible-study-april-28/
LOCATION:Online Stream\, Canada
CATEGORIES:Online Stream
END:VEVENT
BEGIN:VEVENT
DTSTART;TZID=UTC:20200426T110000
DTEND;TZID=UTC:20200426T123000
DTSTAMP:20260425T125453
CREATED:20200407T173205Z
LAST-MODIFIED:20200407T173205Z
UID:1672-1587898800-1587904200@www.klvchurch.com
SUMMARY:Sunday Worship Service | April 26
DESCRIPTION:This service will be streamed online using the Zoom app\, a free video conferencing platform. Please use the following link to attend the event. If you do not already have the Zoom app installed on your device\, you will be prompted to do so. \nZoom URL: https://us04web.zoom.us/j/990010245 \nZoom Meeting ID: 990 010 245
URL:https://www.klvchurch.com/event/sunday-worship-service-april-26/
LOCATION:Kingdom Life Victory Church\, 1307 10 Avenue SE\, Calgary\, Alberta\, Canada
CATEGORIES:Online Stream
END:VEVENT
BEGIN:VEVENT
DTSTART;TZID=UTC:20200424T190000
DTEND;TZID=UTC:20200424T210000
DTSTAMP:20260425T125453
CREATED:20200322T035748Z
LAST-MODIFIED:20200407T170752Z
UID:1593-1587754800-1587762000@www.klvchurch.com
SUMMARY:Monthly Prayer Meeting | April 24th
DESCRIPTION:This event will be streamed online using the Zoom app\, a free video conferencing platform. Please use the following link to attend the event. If you do not already have the Zoom app installed on your device\, you will be prompted to do so. \nZoom URL: https://us04web.zoom.us/j/990010245 \nZoom Meeting ID: 990 010 245
URL:https://www.klvchurch.com/event/monthly-prayer-meeting-april-24th/
LOCATION:Online Stream\, Canada
CATEGORIES:Online Stream
END:VEVENT
BEGIN:VEVENT
DTSTART;TZID=UTC:20200421T193000
DTEND;TZID=UTC:20200421T203000
DTSTAMP:20260425T125453
CREATED:20200407T171722Z
LAST-MODIFIED:20200407T171722Z
UID:1664-1587497400-1587501000@www.klvchurch.com
SUMMARY:Weekly Bible Study | April 21
DESCRIPTION:This event will be streamed online using the Zoom app\, a free video conferencing platform. Please use the following link to attend the event. If you do not already have the Zoom app installed on your device\, you will be prompted to do so. \nZoom URL: https://us04web.zoom.us/j/990010245 \nZoom Meeting ID: 990 010 245
URL:https://www.klvchurch.com/event/weekly-bible-study-april-21/
LOCATION:Online Stream\, Canada
CATEGORIES:Online Stream
END:VEVENT
BEGIN:VEVENT
DTSTART;TZID=UTC:20200419T110000
DTEND;TZID=UTC:20200419T123000
DTSTAMP:20260425T125453
CREATED:20200407T172618Z
LAST-MODIFIED:20200407T172618Z
UID:1670-1587294000-1587299400@www.klvchurch.com
SUMMARY:Sunday Worship Service | April 19
DESCRIPTION:This service will be streamed online using the Zoom app\, a free video conferencing platform. Please use the following link to attend the event. If you do not already have the Zoom app installed on your device\, you will be prompted to do so. \nZoom URL: https://us04web.zoom.us/j/990010245 \nZoom Meeting ID: 990 010 245
URL:https://www.klvchurch.com/event/sunday-worship-service-april-19/
LOCATION:Kingdom Life Victory Church\, 1307 10 Avenue SE\, Calgary\, Alberta\, Canada
CATEGORIES:Online Stream
END:VEVENT
BEGIN:VEVENT
DTSTART;TZID=America/Edmonton:20200418T140000
DTEND;TZID=America/Edmonton:20200418T150000
DTSTAMP:20260425T125453
CREATED:20200416T154413Z
LAST-MODIFIED:20200416T162841Z
UID:1691-1587218400-1587222000@www.klvchurch.com
SUMMARY:'5 Ideas' | 5 Things You Didn't Know About Your Insurance Policy
DESCRIPTION:‘5 Ideas’ is a free bi-weekly webinar series where one of our presenters shares 5 ideas on a relevant topic to help you gain valuable insight through expert advice. \nThe presenter for this webinar is Abigail Igba\, an Insurance Claims Adjuster\, who will share 5 Things You Didn’t Know About Your Insurance Policy. \nThis event will be streamed online using the Zoom app\, a free video conferencing platform. Please use the following link to attend the event. If you do not already have the Zoom app installed on your device\, you will be prompted to do so. \nDate: April 18\, 2020 \nTime: 2:00pm – 3:00pm (MST) \nZoom URL: https://us04web.zoom.us/j/990010245
URL:https://www.klvchurch.com/event/5-ideas-5-things-you-didnt-know-about-your-insurance-policy/
LOCATION:Online Stream\, Canada
CATEGORIES:Online Stream
ATTACH;FMTTYPE=image/jpeg:https://www.klvchurch.com/wp-content/uploads/2020/04/IMG-20200416-WA0002.jpg
END:VEVENT
BEGIN:VEVENT
DTSTART;TZID=UTC:20200414T193000
DTEND;TZID=UTC:20200414T203000
DTSTAMP:20260425T125453
CREATED:20200407T171300Z
LAST-MODIFIED:20200407T171300Z
UID:1661-1586892600-1586896200@www.klvchurch.com
SUMMARY:Weekly Bible Study | April 14
DESCRIPTION:This event will be streamed online using the Zoom app\, a free video conferencing platform. Please use the following link to attend the event. If you do not already have the Zoom app installed on your device\, you will be prompted to do so. \nZoom URL: https://us04web.zoom.us/j/990010245 \nZoom Meeting ID: 990 010 245
URL:https://www.klvchurch.com/event/weekly-bible-study-april-14/
LOCATION:Online Stream\, Canada
CATEGORIES:Online Stream
END:VEVENT
BEGIN:VEVENT
DTSTART;TZID=UTC:20200412T110000
DTEND;TZID=UTC:20200412T123000
DTSTAMP:20260425T125453
CREATED:20200407T172305Z
LAST-MODIFIED:20200407T172305Z
UID:1668-1586689200-1586694600@www.klvchurch.com
SUMMARY:Sunday Worship Service | April 12
DESCRIPTION:This service will be streamed online using the Zoom app\, a free video conferencing platform. Please use the following link to attend the event. If you do not already have the Zoom app installed on your device\, you will be prompted to do so. \nZoom URL: https://us04web.zoom.us/j/990010245 \nZoom Meeting ID: 990 010 245
URL:https://www.klvchurch.com/event/sunday-worship-service-april-12/
LOCATION:Kingdom Life Victory Church\, 1307 10 Avenue SE\, Calgary\, Alberta\, Canada
CATEGORIES:Online Stream
END:VEVENT
BEGIN:VEVENT
DTSTART;TZID=UTC:20200407T193000
DTEND;TZID=UTC:20200407T203000
DTSTAMP:20260425T125453
CREATED:20200407T171106Z
LAST-MODIFIED:20200407T171106Z
UID:1659-1586287800-1586291400@www.klvchurch.com
SUMMARY:Weekly Bible Study | April 7
DESCRIPTION:This event will be streamed online using the Zoom app\, a free video conferencing platform. Please use the following link to attend the event. If you do not already have the Zoom app installed on your device\, you will be prompted to do so. \nZoom URL: https://us04web.zoom.us/j/990010245 \nZoom Meeting ID: 990 010 245
URL:https://www.klvchurch.com/event/weekly-bible-study-april-7/
LOCATION:Online Stream\, Canada
CATEGORIES:Online Stream
END:VEVENT
BEGIN:VEVENT
DTSTART;TZID=America/Edmonton:20200404T160000
DTEND;TZID=America/Edmonton:20200404T180000
DTSTAMP:20260425T125453
CREATED:20200322T040440Z
LAST-MODIFIED:20200322T040440Z
UID:1596-1586016000-1586023200@www.klvchurch.com
SUMMARY:Kingdom Couples' Fellowship | April 4th
DESCRIPTION:
URL:https://www.klvchurch.com/event/kingdom-couples-fellowship-april-4th/
LOCATION:20 Silverado Bank Crt SW\, 20 Silverado Bank Court\, Calgary\, Alberta\, Canada
END:VEVENT
BEGIN:VEVENT
DTSTART;TZID=America/Edmonton:20200401T193000
DTEND;TZID=America/Edmonton:20200401T203000
DTSTAMP:20260425T125453
CREATED:20200322T034631Z
LAST-MODIFIED:20200322T034752Z
UID:1589-1585769400-1585773000@www.klvchurch.com
SUMMARY:Weekly Bible Study | April 1
DESCRIPTION:
URL:https://www.klvchurch.com/event/weekly-bible-study-april-1/
LOCATION:Kingdom Life Victory Church\, 1307 10 Avenue SE\, Calgary\, Alberta\, Canada
END:VEVENT
BEGIN:VEVENT
DTSTART;TZID=America/Edmonton:20200327T190000
DTEND;TZID=America/Edmonton:20200327T210000
DTSTAMP:20260425T125453
CREATED:20200322T035339Z
LAST-MODIFIED:20200322T035819Z
UID:1591-1585335600-1585342800@www.klvchurch.com
SUMMARY:Monthly Prayer Meeting | March 27th
DESCRIPTION:
URL:https://www.klvchurch.com/event/prayer-meeting-march-27th/
LOCATION:Kingdom Life Victory Church\, 1307 10 Avenue SE\, Calgary\, Alberta\, Canada
END:VEVENT
BEGIN:VEVENT
DTSTART;TZID=America/Edmonton:20200324T193000
DTEND;TZID=America/Edmonton:20200324T203000
DTSTAMP:20260425T125453
CREATED:20200321T224737Z
LAST-MODIFIED:20200322T034352Z
UID:1563-1585078200-1585081800@www.klvchurch.com
SUMMARY:Weekly Bible Study | March 24th
DESCRIPTION:
URL:https://www.klvchurch.com/event/weekly-bible-study/
LOCATION:Kingdom Life Victory Church\, 1307 10 Avenue SE\, Calgary\, Alberta\, Canada
END:VEVENT
END:VCALENDAR