BEGIN:VCALENDAR
VERSION:2.0
PRODID:-//Kingdom Life Victory Church - ECPv6.15.20//NONSGML v1.0//EN
CALSCALE:GREGORIAN
METHOD:PUBLISH
X-ORIGINAL-URL:https://www.klvchurch.com
X-WR-CALDESC:Events for Kingdom Life Victory Church
REFRESH-INTERVAL;VALUE=DURATION:PT1H
X-Robots-Tag:noindex
X-PUBLISHED-TTL:PT1H
BEGIN:VTIMEZONE
TZID:America/Edmonton
BEGIN:DAYLIGHT
TZOFFSETFROM:-0700
TZOFFSETTO:-0600
TZNAME:MDT
DTSTART:20230312T090000
END:DAYLIGHT
BEGIN:STANDARD
TZOFFSETFROM:-0600
TZOFFSETTO:-0700
TZNAME:MST
DTSTART:20231105T080000
END:STANDARD
BEGIN:DAYLIGHT
TZOFFSETFROM:-0700
TZOFFSETTO:-0600
TZNAME:MDT
DTSTART:20240310T090000
END:DAYLIGHT
BEGIN:STANDARD
TZOFFSETFROM:-0600
TZOFFSETTO:-0700
TZNAME:MST
DTSTART:20241103T080000
END:STANDARD
BEGIN:DAYLIGHT
TZOFFSETFROM:-0700
TZOFFSETTO:-0600
TZNAME:MDT
DTSTART:20250309T090000
END:DAYLIGHT
BEGIN:STANDARD
TZOFFSETFROM:-0600
TZOFFSETTO:-0700
TZNAME:MST
DTSTART:20251102T080000
END:STANDARD
END:VTIMEZONE
BEGIN:VEVENT
DTSTART;TZID=America/Edmonton:20240908T110000
DTEND;TZID=America/Edmonton:20240908T130000
DTSTAMP:20260425T212512
CREATED:20240813T030725Z
LAST-MODIFIED:20240903T040806Z
UID:2340-1725793200-1725800400@www.klvchurch.com
SUMMARY:Fall Kick Off 2024
DESCRIPTION:Kingdom Life Victory Church invites you to the annual Fall Kick-off on Sept 8th at our Palace of Praise! Hosted by Pastors Anayo & Chiny\, with guest ministers Pastors Jason & Veena\, this event will bless in many ways. Register now at https://www.eventbrite.com/e/klvcs-palace-of-praise-fall-kickoff-tickets-995842239947 \n  \nJoin us for anointed praise & worship\, a Word feast\, baptism in the Holy Spirit\, healing ministration\, and lunch. \n  \nDate: September 8\, 2024 \nTime: 11:ooAM \nLocation: 1307 10th Avenue SE\, Calgary\, AB \nFree Registration Link: https://www.eventbrite.com/e/klvcs-palace-of-praise-fall-kickoff-tickets-995842239947
URL:https://www.klvchurch.com/event/fall-kick-off-2024/
LOCATION:Kingdom Life Victory Church\, 1307 10 Avenue SE\, Calgary\, Alberta\, Canada
ATTACH;FMTTYPE=image/jpeg:https://www.klvchurch.com/wp-content/uploads/2024/08/Fall-Kick-off-2024-v2.jpeg
END:VEVENT
END:VCALENDAR