BEGIN:VCALENDAR
VERSION:2.0
PRODID:-//Kingdom Life Victory Church - ECPv6.15.20//NONSGML v1.0//EN
CALSCALE:GREGORIAN
METHOD:PUBLISH
X-WR-CALNAME:Kingdom Life Victory Church
X-ORIGINAL-URL:https://www.klvchurch.com
X-WR-CALDESC:Events for Kingdom Life Victory Church
REFRESH-INTERVAL;VALUE=DURATION:PT1H
X-Robots-Tag:noindex
X-PUBLISHED-TTL:PT1H
BEGIN:VTIMEZONE
TZID:America/Edmonton
BEGIN:DAYLIGHT
TZOFFSETFROM:-0700
TZOFFSETTO:-0600
TZNAME:MDT
DTSTART:20230312T090000
END:DAYLIGHT
BEGIN:STANDARD
TZOFFSETFROM:-0600
TZOFFSETTO:-0700
TZNAME:MST
DTSTART:20231105T080000
END:STANDARD
BEGIN:DAYLIGHT
TZOFFSETFROM:-0700
TZOFFSETTO:-0600
TZNAME:MDT
DTSTART:20240310T090000
END:DAYLIGHT
BEGIN:STANDARD
TZOFFSETFROM:-0600
TZOFFSETTO:-0700
TZNAME:MST
DTSTART:20241103T080000
END:STANDARD
BEGIN:DAYLIGHT
TZOFFSETFROM:-0700
TZOFFSETTO:-0600
TZNAME:MDT
DTSTART:20250309T090000
END:DAYLIGHT
BEGIN:STANDARD
TZOFFSETFROM:-0600
TZOFFSETTO:-0700
TZNAME:MST
DTSTART:20251102T080000
END:STANDARD
END:VTIMEZONE
BEGIN:VEVENT
DTSTART;TZID=America/Edmonton:20241222T110000
DTEND;TZID=America/Edmonton:20241222T123000
DTSTAMP:20260425T163434
CREATED:20241204T050735Z
LAST-MODIFIED:20241204T050735Z
UID:2387-1734865200-1734870600@www.klvchurch.com
SUMMARY:2024 Christmas Service
DESCRIPTION:You’re invited to KLVC’s Christmas Service! \n  \nJoin us at Kingdom Life Victory Church for an uplifting in-person event to celebrate the reason for the season – Jesus Christ. Get ready for a time filled with joyous music\, inspiring messages\, and fellowship with fellow Christians. Whether you’re a long-time member or new to the community\, this event is the perfect opportunity to come together and celebrate Christmas and praise the Lord. Don’t miss out on this special gathering at KLVC’s Palace of Praise! \n  \n*Free Parking at the back of the building. Use the alley off 12th and 13th street. *
URL:https://www.klvchurch.com/event/2024-christmas-service/
LOCATION:Kingdom Life Victory Church\, 1307 10 Avenue SE\, Calgary\, Alberta\, Canada
ATTACH;FMTTYPE=image/jpeg:https://www.klvchurch.com/wp-content/uploads/2024/12/Chistmas-Service-2024.jpeg
END:VEVENT
END:VCALENDAR