BEGIN:VCALENDAR
VERSION:2.0
PRODID:-//Kingdom Life Victory Church - ECPv6.15.20//NONSGML v1.0//EN
CALSCALE:GREGORIAN
METHOD:PUBLISH
X-WR-CALNAME:Kingdom Life Victory Church
X-ORIGINAL-URL:https://www.klvchurch.com
X-WR-CALDESC:Events for Kingdom Life Victory Church
REFRESH-INTERVAL;VALUE=DURATION:PT1H
X-Robots-Tag:noindex
X-PUBLISHED-TTL:PT1H
BEGIN:VTIMEZONE
TZID:America/Edmonton
BEGIN:DAYLIGHT
TZOFFSETFROM:-0700
TZOFFSETTO:-0600
TZNAME:MDT
DTSTART:20240310T090000
END:DAYLIGHT
BEGIN:STANDARD
TZOFFSETFROM:-0600
TZOFFSETTO:-0700
TZNAME:MST
DTSTART:20241103T080000
END:STANDARD
BEGIN:DAYLIGHT
TZOFFSETFROM:-0700
TZOFFSETTO:-0600
TZNAME:MDT
DTSTART:20250309T090000
END:DAYLIGHT
BEGIN:STANDARD
TZOFFSETFROM:-0600
TZOFFSETTO:-0700
TZNAME:MST
DTSTART:20251102T080000
END:STANDARD
BEGIN:DAYLIGHT
TZOFFSETFROM:-0700
TZOFFSETTO:-0600
TZNAME:MDT
DTSTART:20260308T090000
END:DAYLIGHT
BEGIN:STANDARD
TZOFFSETFROM:-0600
TZOFFSETTO:-0700
TZNAME:MST
DTSTART:20261101T080000
END:STANDARD
END:VTIMEZONE
BEGIN:VEVENT
DTSTART;TZID=America/Edmonton:20250907T110000
DTEND;TZID=America/Edmonton:20250907T123000
DTSTAMP:20260425T022848
CREATED:20250826T054859Z
LAST-MODIFIED:20250826T054859Z
UID:2432-1757242800-1757248200@www.klvchurch.com
SUMMARY:Fall Kick Off 2025
DESCRIPTION:Kingdom Life Victory Church invites you to the annual Fall Kick-off on Sept 7th at our Palace of Praise! Hosted by Pastors Anayo & Chiny\, with guest minister Pastor Craig Buroker\, this free event will bless in many ways. Register now at https://klvcfallkickoff2025.eventbrite.com/ \n  \nJoin us for anointed praise & worship\, a Word feast\, baptism in the Holy Spirit\, healing ministration\, and lunch. \n  \nDate: September 7\, 2025 \nTime: 11:ooAM \nLocation: 1307 10th Avenue SE\, Calgary\, AB \nFree Registration Link: https://klvcfallkickoff2025.eventbrite.com/
URL:https://www.klvchurch.com/event/fall-kick-off-2025/
LOCATION:Kingdom Life Victory Church\, 1307 10 Avenue SE\, Calgary\, Alberta\, Canada
ATTACH;FMTTYPE=image/jpeg:https://www.klvchurch.com/wp-content/uploads/2025/08/Fall-Kick-Off-2025.jpeg
END:VEVENT
END:VCALENDAR